BEGIN:VCALENDAR
VERSION:2.0
PRODID:-//wp-events-plugin.com//7.2.3.1//EN
TZID:America/Campo_Grande
X-WR-TIMEZONE:America/Campo_Grande
BEGIN:VEVENT
UID:38@semadesc.ms.gov.br
DTSTART;TZID=America/Campo_Grande:20230419T090000
DTEND;TZID=America/Campo_Grande:20230419T120000
DTSTAMP:20230418T124750Z
URL:https://www.semadesc.ms.gov.br/agenda/xxi-congresso-brasileiro-do-mini
 sterio-publico-de-meio-ambiente/
SUMMARY:XXI Congresso Brasileiro do Ministério Público de Meio Ambiente
DESCRIPTION:
LOCATION:Bonito\, Bonito\, Bonito\, Mato Grosso do Sul\, Brasil
X-APPLE-STRUCTURED-LOCATION;VALUE=URI;X-ADDRESS=Bonito\, Bonito\, Mato Gros
 so do Sul\, Brasil;X-APPLE-RADIUS=100;X-TITLE=Bonito:geo:0,0
END:VEVENT
BEGIN:VTIMEZONE
TZID:America/Campo_Grande
X-LIC-LOCATION:America/Campo_Grande
BEGIN:STANDARD
DTSTART:20220419T090000
TZOFFSETFROM:-0400
TZOFFSETTO:-0400
TZNAME:-04
END:STANDARD
END:VTIMEZONE
END:VCALENDAR