BEGIN:VCALENDAR
VERSION:2.0
PRODID:-//wp-events-plugin.com//7.2.3.1//EN
TZID:America/Campo_Grande
X-WR-TIMEZONE:America/Campo_Grande
BEGIN:VEVENT
UID:45@semadesc.ms.gov.br
DTSTART;TZID=America/Campo_Grande:20230503T080000
DTEND;TZID=America/Campo_Grande:20230503T090000
DTSTAMP:20230418T130124Z
URL:https://www.semadesc.ms.gov.br/agenda/solenidade-de-abertura-oficial-d
 o-workshop-programa-calha-norte/
SUMMARY:Solenidade de abertura oficial do “Workshop Programa Calha Norte"
DESCRIPTION:
LOCATION:Associação dos Municípios de Mato Grosso do Sul\, Av. Eduardo E
 lias Zahran\, 3179 \, Campo Grande\, Mato Grosso do Sul\, 79003-000\, Vila
  Antonio Vendas\, Brasil
X-APPLE-STRUCTURED-LOCATION;VALUE=URI;X-ADDRESS=Av. Eduardo Elias Zahran\, 
 3179 \, Campo Grande\, Mato Grosso do Sul\, 79003-000\, Vila Antonio Venda
 s\, Brasil;X-APPLE-RADIUS=100;X-TITLE=Associação dos Municípios de Mato
  Grosso do Sul:geo:0,0
END:VEVENT
BEGIN:VTIMEZONE
TZID:America/Campo_Grande
X-LIC-LOCATION:America/Campo_Grande
BEGIN:STANDARD
DTSTART:20220503T080000
TZOFFSETFROM:-0400
TZOFFSETTO:-0400
TZNAME:-04
END:STANDARD
END:VTIMEZONE
END:VCALENDAR