BEGIN:VCALENDAR
VERSION:2.0
PRODID:-//wp-events-plugin.com//7.2.3.1//EN
TZID:America/Campo_Grande
X-WR-TIMEZONE:America/Campo_Grande
BEGIN:VEVENT
UID:25@semadesc.ms.gov.br
DTSTART;TZID=America/Campo_Grande:20230328T080000
DTEND;TZID=America/Campo_Grande:20230328T090000
DTSTAMP:20230320T212112Z
URL:https://www.semadesc.ms.gov.br/agenda/reuniao-conselho-deliberativo-es
 tadual-do-sebrae-ms/
SUMMARY:Reunião Conselho Deliberativo Estadual do SEBRAE/MS
DESCRIPTION:
CATEGORIES:Agenda
LOCATION:SEBRAE/MS - Serviço de Apoio às Micro e Pequenas Empresas de Mat
 o Grosso do Sul\, Av. Mato Grosso\, 1661\, Campo Grande\, Mato Grosso do S
 ul\, 79002-950\, Centro\, Brasil
X-APPLE-STRUCTURED-LOCATION;VALUE=URI;X-ADDRESS=Av. Mato Grosso\, 1661\, Ca
 mpo Grande\, Mato Grosso do Sul\, 79002-950\, Centro\, Brasil;X-APPLE-RADI
 US=100;X-TITLE=SEBRAE/MS - Serviço de Apoio às Micro e Pequenas Empresas
  de Mato Grosso do Sul:geo:0,0
END:VEVENT
BEGIN:VTIMEZONE
TZID:America/Campo_Grande
X-LIC-LOCATION:America/Campo_Grande
BEGIN:STANDARD
DTSTART:20220328T080000
TZOFFSETFROM:-0400
TZOFFSETTO:-0400
TZNAME:-04
END:STANDARD
END:VTIMEZONE
END:VCALENDAR