BEGIN:VCALENDAR
VERSION:2.0
PRODID:-//wp-events-plugin.com//7.2.3.1//EN
TZID:America/Campo_Grande
X-WR-TIMEZONE:America/Campo_Grande
BEGIN:VEVENT
UID:44@semadesc.ms.gov.br
DTSTART;TZID=America/Campo_Grande:20230425T110000
DTEND;TZID=America/Campo_Grande:20230425T120000
DTSTAMP:20230418T125805Z
URL:https://www.semadesc.ms.gov.br/agenda/reuniao-conselho-deliberativo-es
 tadual-do-sebrae-ms-2/
SUMMARY:Reunião Conselho Deliberativo Estadual Do Sebrae/MS
DESCRIPTION:
LOCATION:Três Lagoas\, Três Lagoas\, Três Lagoas\, Mato Grosso do Sul\, 
 Centro\, Brasil
X-APPLE-STRUCTURED-LOCATION;VALUE=URI;X-ADDRESS=Três Lagoas\, Três Lagoas
 \, Mato Grosso do Sul\, Centro\, Brasil;X-APPLE-RADIUS=100;X-TITLE=Três L
 agoas:geo:0,0
END:VEVENT
BEGIN:VTIMEZONE
TZID:America/Campo_Grande
X-LIC-LOCATION:America/Campo_Grande
BEGIN:STANDARD
DTSTART:20220425T110000
TZOFFSETFROM:-0400
TZOFFSETTO:-0400
TZNAME:-04
END:STANDARD
END:VTIMEZONE
END:VCALENDAR