BEGIN:VCALENDAR
VERSION:2.0
PRODID:-//wp-events-plugin.com//7.2.3.1//EN
TZID:America/Campo_Grande
X-WR-TIMEZONE:America/Campo_Grande
BEGIN:VEVENT
UID:177@semadesc.ms.gov.br
DTSTART;TZID=America/Campo_Grande:20241004T073000
DTEND;TZID=America/Campo_Grande:20241004T173000
DTSTAMP:20241004T135903Z
URL:https://www.semadesc.ms.gov.br/agenda/o-secretario-jaime-verruck-cumpr
 e-agendas-internas-de-trabalho-nos-periodos-matutino-e-vespertino/
SUMMARY:O Secretário Jaime Verruck cumpre agendas internas de trabalho nos
  períodos matutino e vespertino.
DESCRIPTION:
CATEGORIES:Agenda
LOCATION:SEMADESC\, Avenida Desembargador José Nunes da Cunha S/N Bloco 12
  Parque dos Poderes\, Campo Grande\, Mato Grosso do Sul\, Brasil
X-APPLE-STRUCTURED-LOCATION;VALUE=URI;X-ADDRESS=Avenida Desembargador José
  Nunes da Cunha S/N Bloco 12 Parque dos Poderes\, Campo Grande\, Mato Gros
 so do Sul\, Brasil;X-APPLE-RADIUS=100;X-TITLE=SEMADESC:geo:0,0
END:VEVENT
BEGIN:VTIMEZONE
TZID:America/Campo_Grande
X-LIC-LOCATION:America/Campo_Grande
BEGIN:STANDARD
DTSTART:20231005T073000
TZOFFSETFROM:-0400
TZOFFSETTO:-0400
TZNAME:-04
END:STANDARD
END:VTIMEZONE
END:VCALENDAR