BEGIN:VCALENDAR
VERSION:2.0
PRODID:-//wp-events-plugin.com//7.2.3.1//EN
TZID:America/Campo_Grande
X-WR-TIMEZONE:America/Campo_Grande
BEGIN:VEVENT
UID:137@semadesc.ms.gov.br
DTSTART;TZID=America/Campo_Grande;VALUE=DATE:20240412
DTEND;TZID=America/Campo_Grande;VALUE=DATE:20240413
DTSTAMP:20240517T192410Z
URL:https://www.semadesc.ms.gov.br/agenda/o-secretario-jaime-verruck-cumpr
 e-agenda-interna-nos-periodos-matutino-e-vespertino-38/
SUMMARY:O Secretário Jaime Verruck cumpre agenda interna\, nos períodos m
 atutino e vespertino
DESCRIPTION:
CATEGORIES:Agenda
END:VEVENT
BEGIN:VTIMEZONE
TZID:America/Campo_Grande
X-LIC-LOCATION:America/Campo_Grande
BEGIN:STANDARD
DTSTART:20230413T000000
TZOFFSETFROM:-0400
TZOFFSETTO:-0400
TZNAME:-04
END:STANDARD
END:VTIMEZONE
END:VCALENDAR