BEGIN:VCALENDAR
VERSION:2.0
PRODID:-//wp-events-plugin.com//7.2.3.1//EN
TZID:America/Campo_Grande
X-WR-TIMEZONE:America/Campo_Grande
BEGIN:VEVENT
UID:51@semadesc.ms.gov.br
DTSTART;TZID=America/Campo_Grande:20230517T180000
DTEND;TZID=America/Campo_Grande:20230517T185000
DTSTAMP:20230515T143822Z
URL:https://www.semadesc.ms.gov.br/agenda/inauguracao-unidade-de-producao-
 de-leitoes-upl-alfa-cooperativa/
SUMMARY:Inauguração Unidade de Produção de Leitões (UPL) (Alfa Coopera
 tiva)
DESCRIPTION:
LOCATION:Alfa Cooperativa\, CTG Campos da Vacaria -  MS\, Av. das Flores\, 
 153 - Sidrolândia\, MS\, 79170-000\, Brasil\, Sidrolândia\, Mato Grosso 
 do Sul \, 79170-000\, Brasil
X-APPLE-STRUCTURED-LOCATION;VALUE=URI;X-ADDRESS=CTG Campos da Vacaria -  MS
 \, Av. das Flores\, 153 - Sidrolândia\, MS\, 79170-000\, Brasil\, Sidrol
 ândia\, Mato Grosso do Sul \, 79170-000\, Brasil;X-APPLE-RADIUS=100;X-TIT
 LE=Alfa Cooperativa:geo:0,0
END:VEVENT
BEGIN:VTIMEZONE
TZID:America/Campo_Grande
X-LIC-LOCATION:America/Campo_Grande
BEGIN:STANDARD
DTSTART:20220517T180000
TZOFFSETFROM:-0400
TZOFFSETTO:-0400
TZNAME:-04
END:STANDARD
END:VTIMEZONE
END:VCALENDAR