BEGIN:VCALENDAR
VERSION:2.0
PRODID:-//wp-events-plugin.com//7.2.3.1//EN
TZID:America/Campo_Grande
X-WR-TIMEZONE:America/Campo_Grande
BEGIN:VEVENT
UID:29@semadesc.ms.gov.br
DTSTART;TZID=America/Campo_Grande:20230329T090000
DTEND;TZID=America/Campo_Grande:20230329T100000
DTSTAMP:20230327T130550Z
URL:https://www.semadesc.ms.gov.br/agenda/expocanas-2023/
SUMMARY:Expocanas 2023
DESCRIPTION:
LOCATION:Nova Alvorada do Sul\, BR 163 KM 371\, Nova Alvorada do Sul\, Mato
  Grosso do Sul\, Brasil
X-APPLE-STRUCTURED-LOCATION;VALUE=URI;X-ADDRESS=BR 163 KM 371\, Nova Alvora
 da do Sul\, Mato Grosso do Sul\, Brasil;X-APPLE-RADIUS=100;X-TITLE=Nova Al
 vorada do Sul:geo:0,0
END:VEVENT
BEGIN:VTIMEZONE
TZID:America/Campo_Grande
X-LIC-LOCATION:America/Campo_Grande
BEGIN:STANDARD
DTSTART:20220329T090000
TZOFFSETFROM:-0400
TZOFFSETTO:-0400
TZNAME:-04
END:STANDARD
END:VTIMEZONE
END:VCALENDAR