BEGIN:VCALENDAR
VERSION:2.0
PRODID:-//wp-events-plugin.com//7.2.3.1//EN
TZID:America/Campo_Grande
X-WR-TIMEZONE:America/Campo_Grande
BEGIN:VEVENT
UID:82@semadesc.ms.gov.br
DTSTART;TZID=America/Campo_Grande:20231118T080000
DTEND;TZID=America/Campo_Grande:20231118T090000
DTSTAMP:20231114T151854Z
URL:https://www.semadesc.ms.gov.br/agenda/evento-comemoracao-44-anos-ceasa
 /
SUMMARY:Evento comemoração 44 anos CEASA
DESCRIPTION:
CATEGORIES:Agenda
LOCATION:CEASA\, R. Antônio Rahe\, 680\, Campo Grande\, MS\, Brasil
X-APPLE-STRUCTURED-LOCATION;VALUE=URI;X-ADDRESS=R. Antônio Rahe\, 680\, Ca
 mpo Grande\, MS\, Brasil;X-APPLE-RADIUS=100;X-TITLE=CEASA:geo:0,0
END:VEVENT
BEGIN:VTIMEZONE
TZID:America/Campo_Grande
X-LIC-LOCATION:America/Campo_Grande
BEGIN:STANDARD
DTSTART:20221118T080000
TZOFFSETFROM:-0400
TZOFFSETTO:-0400
TZNAME:-04
END:STANDARD
END:VTIMEZONE
END:VCALENDAR