BEGIN:VCALENDAR
VERSION:2.0
PRODID:-//wp-events-plugin.com//7.2.3.1//EN
TZID:America/Campo_Grande
X-WR-TIMEZONE:America/Campo_Grande
BEGIN:VEVENT
UID:73@semadesc.ms.gov.br
DTSTART;TZID=America/Campo_Grande:20230721T112000
DTEND;TZID=America/Campo_Grande:20230721T120000
DTSTAMP:20230717T120149Z
URL:https://www.semadesc.ms.gov.br/agenda/entrevista-canal-do-boi/
SUMMARY:Entrevista Canal do Boi
DESCRIPTION:
CATEGORIES:Agenda
LOCATION:Canal Do Boi\, R. Santa Catarina\, 1265 \, Campo Grande\, Mato Gro
 sso do Sul \,  79011-260\, Cel. Antonino\, Brasil
X-APPLE-STRUCTURED-LOCATION;VALUE=URI;X-ADDRESS=R. Santa Catarina\, 1265 \,
  Campo Grande\, Mato Grosso do Sul \,  79011-260\, Cel. Antonino\, Brasil;
 X-APPLE-RADIUS=100;X-TITLE=Canal Do Boi:geo:0,0
END:VEVENT
BEGIN:VTIMEZONE
TZID:America/Campo_Grande
X-LIC-LOCATION:America/Campo_Grande
BEGIN:STANDARD
DTSTART:20220721T112000
TZOFFSETFROM:-0400
TZOFFSETTO:-0400
TZNAME:-04
END:STANDARD
END:VTIMEZONE
END:VCALENDAR