BEGIN:VCALENDAR
VERSION:2.0
PRODID:-//wp-events-plugin.com//7.2.3.1//EN
TZID:America/Campo_Grande
X-WR-TIMEZONE:America/Campo_Grande
BEGIN:VEVENT
UID:71@semadesc.ms.gov.br
DTSTART;TZID=America/Campo_Grande:20230717T143000
DTEND;TZID=America/Campo_Grande:20230717T153000
DTSTAMP:20230717T115228Z
URL:https://www.semadesc.ms.gov.br/agenda/entrega-de-19-motoniveladoras/
SUMMARY:Entrega de 19 motoniveladoras
DESCRIPTION:
CATEGORIES:Agenda
LOCATION:Yotedy\,  R. Antônio Maria Coelho\, s\, nº 6200\,- MS\, \,  Camp
 o Grande \, Mato Grosso do Sul \, 79021-170\, Parque das Nações Indígen
 a\, Brasil
X-APPLE-STRUCTURED-LOCATION;VALUE=URI;X-ADDRESS= R. Antônio Maria Coelho\,
  s\, nº 6200\,- MS\, \,  Campo Grande \, Mato Grosso do Sul \, 79021-170\
 , Parque das Nações Indígena\, Brasil;X-APPLE-RADIUS=100;X-TITLE=Yotedy
 :geo:0,0
END:VEVENT
BEGIN:VTIMEZONE
TZID:America/Campo_Grande
X-LIC-LOCATION:America/Campo_Grande
BEGIN:STANDARD
DTSTART:20220717T143000
TZOFFSETFROM:-0400
TZOFFSETTO:-0400
TZNAME:-04
END:STANDARD
END:VTIMEZONE
END:VCALENDAR