BEGIN:VCALENDAR
VERSION:2.0
PRODID:-//wp-events-plugin.com//7.2.3.1//EN
TZID:America/Campo_Grande
X-WR-TIMEZONE:America/Campo_Grande
BEGIN:VEVENT
UID:75@semadesc.ms.gov.br
DTSTART;TZID=America/Campo_Grande:20230725T083000
DTEND;TZID=America/Campo_Grande:20230725T103000
DTSTAMP:20230725T130233Z
URL:https://www.semadesc.ms.gov.br/agenda/conferencia-estadual-da-agricult
 ura-familiar-e-o-lancamento-do-plano-safra-da-agricultura-familiar/
SUMMARY:Conferência Estadual da Agricultura Familiar e o lançamento do Pl
 ano Safra da Agricultura Familiar
DESCRIPTION:
CATEGORIES:Agenda
END:VEVENT
BEGIN:VTIMEZONE
TZID:America/Campo_Grande
X-LIC-LOCATION:America/Campo_Grande
BEGIN:STANDARD
DTSTART:20220725T083000
TZOFFSETFROM:-0400
TZOFFSETTO:-0400
TZNAME:-04
END:STANDARD
END:VTIMEZONE
END:VCALENDAR