BEGIN:VCALENDAR
VERSION:2.0
PRODID:-//wp-events-plugin.com//7.2.3.1//EN
TZID:America/Campo_Grande
X-WR-TIMEZONE:America/Campo_Grande
BEGIN:VEVENT
UID:40@semadesc.ms.gov.br
DTSTART;TZID=America/Campo_Grande:20230426T140000
DTEND;TZID=America/Campo_Grande:20230426T163000
DTSTAMP:20230418T125220Z
URL:https://www.semadesc.ms.gov.br/agenda/audiencia-publica-n-5-2023-conce
 ssao-da-malha-oeste/
SUMMARY:Audiência Pública n. 5/2023 | Concessão da Malha Oeste
DESCRIPTION:
LOCATION:Grand Park Hotel\, Av. Afonso Pena\, 5.282 \, Campo Grande\, Mato 
 Grosso do Sul\, 79040-010\, Chácara Cachoeira\, Brasil
X-APPLE-STRUCTURED-LOCATION;VALUE=URI;X-ADDRESS=Av. Afonso Pena\, 5.282 \, 
 Campo Grande\, Mato Grosso do Sul\, 79040-010\, Chácara Cachoeira\, Brasi
 l;X-APPLE-RADIUS=100;X-TITLE=Grand Park Hotel:geo:0,0
END:VEVENT
BEGIN:VTIMEZONE
TZID:America/Campo_Grande
X-LIC-LOCATION:America/Campo_Grande
BEGIN:STANDARD
DTSTART:20220426T140000
TZOFFSETFROM:-0400
TZOFFSETTO:-0400
TZNAME:-04
END:STANDARD
END:VTIMEZONE
END:VCALENDAR