BEGIN:VCALENDAR
VERSION:2.0
PRODID:-//wp-events-plugin.com//7.2.3.1//EN
TZID:America/Campo_Grande
X-WR-TIMEZONE:America/Campo_Grande
BEGIN:VEVENT
UID:53@semadesc.ms.gov.br
DTSTART;TZID=America/Campo_Grande:20230523T130000
DTEND;TZID=America/Campo_Grande:20230523T150000
DTSTAMP:20230523T135455Z
URL:https://www.semadesc.ms.gov.br/agenda/assembleia-hibrida-ordinaria-fme
 -forum-nacional-de-secretarios-de-estado-de-minas-e-energia/
SUMMARY:Assembleia Híbrida Ordinária FME (Fórum Nacional de Secretários
  de Estado de Minas e Energia)
DESCRIPTION:
LOCATION:Virtual\, Virtual\, Campo Grande\, Mato Grosso do Sul\, Brasil
X-APPLE-STRUCTURED-LOCATION;VALUE=URI;X-ADDRESS=Virtual\, Campo Grande\, Ma
 to Grosso do Sul\, Brasil;X-APPLE-RADIUS=100;X-TITLE=Virtual:geo:0,0
END:VEVENT
BEGIN:VTIMEZONE
TZID:America/Campo_Grande
X-LIC-LOCATION:America/Campo_Grande
BEGIN:STANDARD
DTSTART:20220523T130000
TZOFFSETFROM:-0400
TZOFFSETTO:-0400
TZNAME:-04
END:STANDARD
END:VTIMEZONE
END:VCALENDAR