BEGIN:VCALENDAR
VERSION:2.0
PRODID:-//wp-events-plugin.com//7.2.3.1//EN
TZID:America/Campo_Grande
X-WR-TIMEZONE:America/Campo_Grande
BEGIN:VEVENT
UID:32@semadesc.ms.gov.br
DTSTART;TZID=America/Campo_Grande:20230330T140000
DTEND;TZID=America/Campo_Grande:20230330T150000
DTSTAMP:20230327T133045Z
URL:https://www.semadesc.ms.gov.br/agenda/assembleia-geral-extraordinaria-
 msgas/
SUMMARY:Assembleia Geral Extraordinária MSGás
DESCRIPTION:
LOCATION:COMPANHIA DE GÁS DO ESTADO DE MS S/A - MSGÁS\, Avenida Ministro 
 João Arinos\, 2138\, Campo Grande\, Mato Grosso do Sul\, 79041-005\, Tira
 dentes \, Brasil
X-APPLE-STRUCTURED-LOCATION;VALUE=URI;X-ADDRESS=Avenida Ministro João Arin
 os\, 2138\, Campo Grande\, Mato Grosso do Sul\, 79041-005\, Tiradentes \, 
 Brasil;X-APPLE-RADIUS=100;X-TITLE=COMPANHIA DE GÁS DO ESTADO DE MS S/A - 
 MSGÁS:geo:0,0
END:VEVENT
BEGIN:VTIMEZONE
TZID:America/Campo_Grande
X-LIC-LOCATION:America/Campo_Grande
BEGIN:STANDARD
DTSTART:20220330T140000
TZOFFSETFROM:-0400
TZOFFSETTO:-0400
TZNAME:-04
END:STANDARD
END:VTIMEZONE
END:VCALENDAR