BEGIN:VCALENDAR
VERSION:2.0
PRODID:-//wp-events-plugin.com//7.2.3.1//EN
TZID:America/Campo_Grande
X-WR-TIMEZONE:America/Campo_Grande
BEGIN:VEVENT
UID:5@semadesc.ms.gov.br
DTSTART;TZID=America/Campo_Grande;VALUE=DATE:20230316
DTEND;TZID=America/Campo_Grande;VALUE=DATE:20230317
DTSTAMP:20230313T134331Z
URL:https://www.semadesc.ms.gov.br/agenda/antt/
SUMMARY:ANTT
DESCRIPTION:
CATEGORIES:Agenda
LOCATION:Brasília\, Brasília\, Brasíia\, Brasil
X-APPLE-STRUCTURED-LOCATION;VALUE=URI;X-ADDRESS=Brasília\, Brasíia\, Bras
 il;X-APPLE-RADIUS=100;X-TITLE=Brasília:geo:0,0
END:VEVENT
BEGIN:VTIMEZONE
TZID:America/Campo_Grande
X-LIC-LOCATION:America/Campo_Grande
BEGIN:STANDARD
DTSTART:20220316T000000
TZOFFSETFROM:-0400
TZOFFSETTO:-0400
TZNAME:-04
END:STANDARD
END:VTIMEZONE
END:VCALENDAR