BEGIN:VCALENDAR
VERSION:2.0
PRODID:-//wp-events-plugin.com//7.2.3.1//EN
TZID:America/Campo_Grande
X-WR-TIMEZONE:America/Campo_Grande
BEGIN:VEVENT
UID:36@semadesc.ms.gov.br
DTSTART;TZID=America/Campo_Grande:20230413T183000
DTEND;TZID=America/Campo_Grande:20230413T193000
DTSTAMP:20230412T210446Z
URL:https://www.semadesc.ms.gov.br/agenda/abertura-oficial-expogrande/
SUMMARY:Abertura Oficial EXPOGRANDE
DESCRIPTION:
LOCATION:EXPOGRANDE\, R. Américo Carlos da Costa\, 320 - Parque Laucídio 
 Coelho\, Campo Grande \, Mato Grosso do Sul\, 79080-170\, Vila Carvalho\, 
 Brasil
X-APPLE-STRUCTURED-LOCATION;VALUE=URI;X-ADDRESS=R. Américo Carlos da Costa
 \, 320 - Parque Laucídio Coelho\, Campo Grande \, Mato Grosso do Sul\, 79
 080-170\, Vila Carvalho\, Brasil;X-APPLE-RADIUS=100;X-TITLE=EXPOGRANDE:geo
 :0,0
END:VEVENT
BEGIN:VTIMEZONE
TZID:America/Campo_Grande
X-LIC-LOCATION:America/Campo_Grande
BEGIN:STANDARD
DTSTART:20220413T183000
TZOFFSETFROM:-0400
TZOFFSETTO:-0400
TZNAME:-04
END:STANDARD
END:VTIMEZONE
END:VCALENDAR