BEGIN:VCALENDAR
VERSION:2.0
PRODID:-//wp-events-plugin.com//7.2.3.1//EN
TZID:America/Campo_Grande
X-WR-TIMEZONE:America/Campo_Grande
BEGIN:VEVENT
UID:60@semadesc.ms.gov.br
DTSTART;TZID=America/Campo_Grande:20230527T083000
DTEND;TZID=America/Campo_Grande:20230527T092000
DTSTAMP:20230523T142446Z
URL:https://www.semadesc.ms.gov.br/agenda/abertura-dia-de-campo-estancia-e
 mbaete/
SUMMARY:Abertura Dia de Campo Estância EMBAETE
DESCRIPTION:
LOCATION:ESTÂNCIA EMBAETE\, Estância Embaete\, Campo Grande\, Mato Grosso
  do Sul\, Brasil
X-APPLE-STRUCTURED-LOCATION;VALUE=URI;X-ADDRESS=Estância Embaete\, Campo G
 rande\, Mato Grosso do Sul\, Brasil;X-APPLE-RADIUS=100;X-TITLE=ESTÂNCIA E
 MBAETE:geo:0,0
END:VEVENT
BEGIN:VTIMEZONE
TZID:America/Campo_Grande
X-LIC-LOCATION:America/Campo_Grande
BEGIN:STANDARD
DTSTART:20220527T083000
TZOFFSETFROM:-0400
TZOFFSETTO:-0400
TZNAME:-04
END:STANDARD
END:VTIMEZONE
END:VCALENDAR