BEGIN:VCALENDAR
VERSION:2.0
PRODID:-//wp-events-plugin.com//7.2.3.1//EN
TZID:America/Campo_Grande
X-WR-TIMEZONE:America/Campo_Grande
BEGIN:VEVENT
UID:80@semadesc.ms.gov.br
DTSTART;TZID=America/Campo_Grande:20231116T080000
DTEND;TZID=America/Campo_Grande:20231116T090000
DTSTAMP:20231114T151048Z
URL:https://www.semadesc.ms.gov.br/agenda/abertura-cursos-fgv/
SUMMARY:Abertura Cursos FGV
DESCRIPTION:
CATEGORIES:Agenda
LOCATION:Senac Hub Academy\, R. do Parque\, 75 - Centro\, \,  Campo Grande 
 - MS\,\, Brasil\, 79002-052\, Brasil
X-APPLE-STRUCTURED-LOCATION;VALUE=URI;X-ADDRESS=R. do Parque\, 75 - Centro\
 , \,  Campo Grande - MS\,\, Brasil\, 79002-052\, Brasil;X-APPLE-RADIUS=100
 ;X-TITLE=Senac Hub Academy:geo:0,0
END:VEVENT
BEGIN:VTIMEZONE
TZID:America/Campo_Grande
X-LIC-LOCATION:America/Campo_Grande
BEGIN:STANDARD
DTSTART:20221116T080000
TZOFFSETFROM:-0400
TZOFFSETTO:-0400
TZNAME:-04
END:STANDARD
END:VTIMEZONE
END:VCALENDAR