BEGIN:VCALENDAR
VERSION:2.0
PRODID:-//wp-events-plugin.com//7.2.3.1//EN
TZID:America/Campo_Grande
X-WR-TIMEZONE:America/Campo_Grande
BEGIN:VEVENT
UID:94@semadesc.ms.gov.br
DTSTART;TZID=America/Campo_Grande:20231211T083000
DTEND;TZID=America/Campo_Grande:20231211T100000
DTSTAMP:20231201T184128Z
URL:https://www.semadesc.ms.gov.br/agenda/3a-reuniao-ordinaria-do-conselho
 -estadual-de-recursos-hidricos-do-estado-de-mato-grosso-do-sul/
SUMMARY:3ª Reunião Ordinária do Conselho Estadual de Recursos Hídricos 
 do Estado de Mato Grosso do Sul
DESCRIPTION:
CATEGORIES:Agenda
LOCATION:Virtual\, Virtual\, Campo Grande\, Mato Grosso do Sul\, Brasil
X-APPLE-STRUCTURED-LOCATION;VALUE=URI;X-ADDRESS=Virtual\, Campo Grande\, Ma
 to Grosso do Sul\, Brasil;X-APPLE-RADIUS=100;X-TITLE=Virtual:geo:0,0
END:VEVENT
BEGIN:VTIMEZONE
TZID:America/Campo_Grande
X-LIC-LOCATION:America/Campo_Grande
BEGIN:STANDARD
DTSTART:20221211T083000
TZOFFSETFROM:-0400
TZOFFSETTO:-0400
TZNAME:-04
END:STANDARD
END:VTIMEZONE
END:VCALENDAR