BEGIN:VCALENDAR
VERSION:2.0
PRODID:-//wp-events-plugin.com//7.2.3.1//EN
TZID:America/Campo_Grande
X-WR-TIMEZONE:America/Campo_Grande
BEGIN:VEVENT
UID:59@semadesc.ms.gov.br
DTSTART;TZID=America/Campo_Grande:20230526T103000
DTEND;TZID=America/Campo_Grande:20230526T112000
DTSTAMP:20230523T141634Z
URL:https://www.semadesc.ms.gov.br/agenda/2o-painel-seminario-papel-da-reg
 ulacao-na-construcao-de-um-ambiente-de-desenvolvimento-agems/
SUMMARY:2º Painel Seminário Papel da Regulação na construção de um am
 biente de desenvolvimento (AGEMS)
DESCRIPTION:
LOCATION:Bioparque Pantanal\, Av. Afonso Pena 6001 - Bairro Chácara Cachoe
 ira\, Campo Grande\, Mato Grosso do Sul\, Brasil
X-APPLE-STRUCTURED-LOCATION;VALUE=URI;X-ADDRESS=Av. Afonso Pena 6001 - Bair
 ro Chácara Cachoeira\, Campo Grande\, Mato Grosso do Sul\, Brasil;X-APPLE
 -RADIUS=100;X-TITLE=Bioparque Pantanal:geo:0,0
END:VEVENT
BEGIN:VTIMEZONE
TZID:America/Campo_Grande
X-LIC-LOCATION:America/Campo_Grande
BEGIN:STANDARD
DTSTART:20220526T103000
TZOFFSETFROM:-0400
TZOFFSETTO:-0400
TZNAME:-04
END:STANDARD
END:VTIMEZONE
END:VCALENDAR