BEGIN:VCALENDAR
VERSION:2.0
PRODID:-//wp-events-plugin.com//7.2.3.1//EN
TZID:America/Campo_Grande
X-WR-TIMEZONE:America/Campo_Grande
BEGIN:VEVENT
UID:74@semadesc.ms.gov.br
DTSTART;TZID=America/Campo_Grande:20230722T083000
DTEND;TZID=America/Campo_Grande:20230722T091000
DTSTAMP:20230717T120806Z
URL:https://www.semadesc.ms.gov.br/agenda/17a-feira-de-sementes-nativas-e-
 crioulas-e-produtos-agroecologicos-de-juti/
SUMMARY:17ª Feira de Sementes Nativas e Crioulas e Produtos Agroecológico
 s de Jutí
DESCRIPTION:
CATEGORIES:Agenda
LOCATION:Juti\, Cidade de Jutí \, Jutí\, Mato Grosso do Sul \, 79955-000\
 , Brasil
X-APPLE-STRUCTURED-LOCATION;VALUE=URI;X-ADDRESS=Cidade de Jutí \, Jutí\, 
 Mato Grosso do Sul \, 79955-000\, Brasil;X-APPLE-RADIUS=100;X-TITLE=Juti:g
 eo:0,0
END:VEVENT
BEGIN:VTIMEZONE
TZID:America/Campo_Grande
X-LIC-LOCATION:America/Campo_Grande
BEGIN:STANDARD
DTSTART:20220722T083000
TZOFFSETFROM:-0400
TZOFFSETTO:-0400
TZNAME:-04
END:STANDARD
END:VTIMEZONE
END:VCALENDAR